BEGIN:VCALENDAR
VERSION:2.0
PRODID:-//The Griot Theater Company - ECPv6.15.20//NONSGML v1.0//EN
CALSCALE:GREGORIAN
METHOD:PUBLISH
X-WR-CALNAME:The Griot Theater Company
X-ORIGINAL-URL:https://griottheatercompany.org
X-WR-CALDESC:Events for The Griot Theater Company
REFRESH-INTERVAL;VALUE=DURATION:PT1H
X-Robots-Tag:noindex
X-PUBLISHED-TTL:PT1H
BEGIN:VTIMEZONE
TZID:UTC
BEGIN:STANDARD
TZOFFSETFROM:+0000
TZOFFSETTO:+0000
TZNAME:UTC
DTSTART:20250101T000000
END:STANDARD
END:VTIMEZONE
BEGIN:VEVENT
DTSTART;TZID=UTC:20260124T180000
DTEND;TZID=UTC:20260124T220000
DTSTAMP:20260421T112313
CREATED:20250119T104344Z
LAST-MODIFIED:20250609T182229Z
UID:2011-1769277600-1769292000@griottheatercompany.org
SUMMARY:Second Annual Griothon Festival
DESCRIPTION:Immerse yourself in a day of dynamic arts\, culture\, and education at the Second Annual Griothon Festival! This multi day event invites high school students to participate in transformative workshops and thought-provoking discussions led by acclaimed Bay Area artists of color. The day concludes with a spectacular evening of performances\, showcasing the next generation of creative talent.
URL:https://griottheatercompany.org/event/second-annual-griothon-festival/
CATEGORIES:Performance
ATTACH;FMTTYPE=image/png:https://griottheatercompany.org/wp-content/uploads/2025/04/Griothon-Banner.png
ORGANIZER;CN="The Griot Theater Company":MAILTO:admin@griottheatercompany.org
END:VEVENT
END:VCALENDAR