BEGIN:VCALENDAR
VERSION:2.0
PRODID:-//The Griot Theater Company - ECPv6.15.20//NONSGML v1.0//EN
CALSCALE:GREGORIAN
METHOD:PUBLISH
X-WR-CALNAME:The Griot Theater Company
X-ORIGINAL-URL:https://griottheatercompany.org
X-WR-CALDESC:Events for The Griot Theater Company
REFRESH-INTERVAL;VALUE=DURATION:PT1H
X-Robots-Tag:noindex
X-PUBLISHED-TTL:PT1H
BEGIN:VTIMEZONE
TZID:America/Los_Angeles
BEGIN:DAYLIGHT
TZOFFSETFROM:-0800
TZOFFSETTO:-0700
TZNAME:PDT
DTSTART:20240310T100000
END:DAYLIGHT
BEGIN:STANDARD
TZOFFSETFROM:-0700
TZOFFSETTO:-0800
TZNAME:PST
DTSTART:20241103T090000
END:STANDARD
BEGIN:DAYLIGHT
TZOFFSETFROM:-0800
TZOFFSETTO:-0700
TZNAME:PDT
DTSTART:20250309T100000
END:DAYLIGHT
BEGIN:STANDARD
TZOFFSETFROM:-0700
TZOFFSETTO:-0800
TZNAME:PST
DTSTART:20251102T090000
END:STANDARD
BEGIN:DAYLIGHT
TZOFFSETFROM:-0800
TZOFFSETTO:-0700
TZNAME:PDT
DTSTART:20260308T100000
END:DAYLIGHT
BEGIN:STANDARD
TZOFFSETFROM:-0700
TZOFFSETTO:-0800
TZNAME:PST
DTSTART:20261101T090000
END:STANDARD
END:VTIMEZONE
BEGIN:VEVENT
DTSTART;TZID=America/Los_Angeles:20250627T190000
DTEND;TZID=America/Los_Angeles:20250627T210000
DTSTAMP:20260421T150703
CREATED:20250402T222734Z
LAST-MODIFIED:20250627T062033Z
UID:2350-1751050800-1751058000@griottheatercompany.org
SUMMARY:The Colored Museum
DESCRIPTION:Join us for an interactive cocktail party meets live production\, where The Colored Museum comes to life around you.\nSip\, mingle\, and step inside George C. Wolfe’s bold\, satirical masterpiece—where history\, humor\, and culture collide.\nDon’t just watch—be part of the story!
URL:https://griottheatercompany.org/event/the-colored-museum-5/
LOCATION:The Belrose\, 1415 Fifth Ave\, San Rafael\, CA\, 94901\, United States
CATEGORIES:Main Stage Production,Performance
ATTACH;FMTTYPE=image/png:https://griottheatercompany.org/wp-content/uploads/2025/01/The-Colored-Museum-Info-Banner.png
ORGANIZER;CN="The Griot Theater Company":MAILTO:admin@griottheatercompany.org
END:VEVENT
END:VCALENDAR