BEGIN:VCALENDAR
VERSION:2.0
PRODID:-//The Griot Theater Company - ECPv6.15.20//NONSGML v1.0//EN
CALSCALE:GREGORIAN
METHOD:PUBLISH
X-WR-CALNAME:The Griot Theater Company
X-ORIGINAL-URL:https://griottheatercompany.org
X-WR-CALDESC:Events for The Griot Theater Company
REFRESH-INTERVAL;VALUE=DURATION:PT1H
X-Robots-Tag:noindex
X-PUBLISHED-TTL:PT1H
BEGIN:VTIMEZONE
TZID:UTC
BEGIN:STANDARD
TZOFFSETFROM:+0000
TZOFFSETTO:+0000
TZNAME:UTC
DTSTART:20240101T000000
END:STANDARD
END:VTIMEZONE
BEGIN:VEVENT
DTSTART;TZID=UTC:20250620T190000
DTEND;TZID=UTC:20250620T210000
DTSTAMP:20260421T150322
CREATED:20250119T185252Z
LAST-MODIFIED:20250620T163436Z
UID:2015-1750446000-1750453200@griottheatercompany.org
SUMMARY:The Colored Museum
DESCRIPTION:Join us for an interactive cocktail party meets live production\, where The Colored Museum comes to life around you.\nSip\, mingle\, and step inside George C. Wolfe’s bold\, satirical masterpiece—where history\, humor\, and culture collide.\nDon’t just watch—be part of the story!
URL:https://griottheatercompany.org/event/the-colored-museum/
LOCATION:The Belrose\, 1415 Fifth Ave\, San Rafael\, CA\, 94901\, United States
CATEGORIES:Main Stage Production,Performance
ATTACH;FMTTYPE=image/png:https://griottheatercompany.org/wp-content/uploads/2025/01/The-Colored-Museum-Info-Banner.png
ORGANIZER;CN="The Griot Theater Company":MAILTO:admin@griottheatercompany.org
END:VEVENT
END:VCALENDAR