BEGIN:VCALENDAR
VERSION:2.0
PRODID:-//The Griot Theater Company - ECPv6.15.20//NONSGML v1.0//EN
CALSCALE:GREGORIAN
METHOD:PUBLISH
X-WR-CALNAME:The Griot Theater Company
X-ORIGINAL-URL:https://griottheatercompany.org
X-WR-CALDESC:Events for The Griot Theater Company
REFRESH-INTERVAL;VALUE=DURATION:PT1H
X-Robots-Tag:noindex
X-PUBLISHED-TTL:PT1H
BEGIN:VTIMEZONE
TZID:America/Los_Angeles
BEGIN:DAYLIGHT
TZOFFSETFROM:-0800
TZOFFSETTO:-0700
TZNAME:PDT
DTSTART:20230312T100000
END:DAYLIGHT
BEGIN:STANDARD
TZOFFSETFROM:-0700
TZOFFSETTO:-0800
TZNAME:PST
DTSTART:20231105T090000
END:STANDARD
BEGIN:DAYLIGHT
TZOFFSETFROM:-0800
TZOFFSETTO:-0700
TZNAME:PDT
DTSTART:20240310T100000
END:DAYLIGHT
BEGIN:STANDARD
TZOFFSETFROM:-0700
TZOFFSETTO:-0800
TZNAME:PST
DTSTART:20241103T090000
END:STANDARD
BEGIN:DAYLIGHT
TZOFFSETFROM:-0800
TZOFFSETTO:-0700
TZNAME:PDT
DTSTART:20250309T100000
END:DAYLIGHT
BEGIN:STANDARD
TZOFFSETFROM:-0700
TZOFFSETTO:-0800
TZNAME:PST
DTSTART:20251102T090000
END:STANDARD
END:VTIMEZONE
BEGIN:VEVENT
DTSTART;TZID=America/Los_Angeles:20240818T130000
DTEND;TZID=America/Los_Angeles:20240818T150000
DTSTAMP:20260421T130608
CREATED:20240525T101419Z
LAST-MODIFIED:20240726T220246Z
UID:515-1723986000-1723993200@griottheatercompany.org
SUMMARY:Soulful Sundays
DESCRIPTION:Join LeShawn Holcomb and the Griot Theater Company for four soulful benefit brunches this summer\, supporting our intergenerational theater arts and education trip to New York City. At these brunches\, you’ll have the opportunity to meet the 30 youth and adults embarking on this exciting journey to the Big Apple. Come and enjoy entertainment by talented Griot artists and savor delicious dishes prepared by our guest chef Alexis Haynes.
URL:https://griottheatercompany.org/event/soulful-sundays-4/
LOCATION:Marin City Senior Center\, 630 Drake Ave\, Marin City\, CA\, 94965\, United States
CATEGORIES:Brunch
ATTACH;FMTTYPE=image/png:https://griottheatercompany.org/wp-content/uploads/2024/05/The_Griot_theater_Company_Sunday_brunch_August_11.png
ORGANIZER;CN="The Griot Theater Company":MAILTO:admin@griottheatercompany.org
END:VEVENT
BEGIN:VEVENT
DTSTART;TZID=America/Los_Angeles:20240728T123000
DTEND;TZID=America/Los_Angeles:20240728T160000
DTSTAMP:20260421T130608
CREATED:20240525T101120Z
LAST-MODIFIED:20240726T215432Z
UID:511-1722169800-1722182400@griottheatercompany.org
SUMMARY:Soulful Sundays
DESCRIPTION:Join LeShawn Holcomb and the Griot Theater Company for four soulful benefit brunches this summer\, supporting our intergenerational theater arts and education trip to New York City. At these brunches\, you’ll have the opportunity to meet the 30 youth and adults embarking on this exciting journey to the Big Apple. Come and enjoy entertainment by talented Griot artists and savor delicious dishes prepared by our guest chef Alexis Haynes.
URL:https://griottheatercompany.org/event/soulful-sundays-3/
LOCATION:Marin City Senior Center\, 630 Drake Ave\, Marin City\, CA\, 94965\, United States
CATEGORIES:Brunch
ATTACH;FMTTYPE=image/png:https://griottheatercompany.org/wp-content/uploads/2024/05/The_Griot_theater_Company_Sunday_brunch_july_28.png
ORGANIZER;CN="The Griot Theater Company":MAILTO:admin@griottheatercompany.org
END:VEVENT
END:VCALENDAR