BEGIN:VCALENDAR
VERSION:2.0
PRODID:-//The Griot Theater Company - ECPv6.15.20//NONSGML v1.0//EN
CALSCALE:GREGORIAN
METHOD:PUBLISH
X-WR-CALNAME:The Griot Theater Company
X-ORIGINAL-URL:https://griottheatercompany.org
X-WR-CALDESC:Events for The Griot Theater Company
REFRESH-INTERVAL;VALUE=DURATION:PT1H
X-Robots-Tag:noindex
X-PUBLISHED-TTL:PT1H
BEGIN:VTIMEZONE
TZID:UTC
BEGIN:STANDARD
TZOFFSETFROM:+0000
TZOFFSETTO:+0000
TZNAME:UTC
DTSTART:20240101T000000
END:STANDARD
END:VTIMEZONE
BEGIN:VEVENT
DTSTART;TZID=UTC:20250302T150000
DTEND;TZID=UTC:20250302T170000
DTSTAMP:20260421T150321
CREATED:20250119T100846Z
LAST-MODIFIED:20250223T004841Z
UID:2006-1740927600-1740934800@griottheatercompany.org
SUMMARY:5th Annual Oratorical: August Wilson’s Half a Century
DESCRIPTION:Explore the legacy of Pulitzer Prize-winning playwright August Wilson\, whose ten-play Century Cycle chronicles the African American experience across the 20th century\, with each play set in a different decade. Join Griot Theater Company as we journey through the final five plays of this monumental cycle\, bringing Wilson’s richly woven stories to life in a way that celebrates history\, resilience\, and the human spirit. \nSuggested Donation \n$25 Adults\n$10.00 Students
URL:https://griottheatercompany.org/event/oratorical-august-wilsons-half-a-century/
LOCATION:Caldwell Theater\, Caldwell Theater (Tamalpais High School) 700 Miller Ave\, Mill Valley\, CA\, 94941\, United States
CATEGORIES:Performance
ATTACH;FMTTYPE=image/png:https://griottheatercompany.org/wp-content/uploads/2025/01/Oratorical-August-Wilsons-Half-a-Century-Instagram-Post-1-e1737401088984.png
ORGANIZER;CN="The Griot Theater Company":MAILTO:admin@griottheatercompany.org
END:VEVENT
END:VCALENDAR